BEGIN:VCALENDAR
VERSION:2.0
PRODID:-//wp-events-plugin.com//7.2.3.1//EN
TZID:Europe/Amsterdam
X-WR-TIMEZONE:Europe/Amsterdam
BEGIN:VEVENT
UID:193@schaken-rijen.nl
DTSTART;TZID=Europe/Amsterdam:20260616T184500
DTEND;TZID=Europe/Amsterdam:20260616T194500
DTSTAMP:20251020T202823Z
URL:https://www.schaken-rijen.nl/events/schaaklessen-jeugd-2025-09-09-2025
 -09-16-2025-09-23-2025-09-30-2025-10-07-2025-10-14-2025-10-21-2025-10-28-2
 025-11-04-2025-11-11-2025-11-18-2025-11-25-2025-12-02-2025-12-09-2025-12-1
 6-20-09-2026-06-16/
SUMMARY:Schaaklessen jeugd
DESCRIPTION:
ATTACH;FMTTYPE=image/jpeg:https://www.schaken-rijen.nl/wp-content/uploads/
 2024/09/jeugd2.png
CATEGORIES:Uncategorized
LOCATION:Pastorie\, Hoofdstraat 58\, Rijen\, Noord-Brabant\, 5121 JG\, Nede
 rland
X-APPLE-STRUCTURED-LOCATION;VALUE=URI;X-ADDRESS=Hoofdstraat 58\, Rijen\, No
 ord-Brabant\, 5121 JG\, Nederland;X-APPLE-RADIUS=100;X-TITLE=Pastorie:geo:
 0,0
END:VEVENT
BEGIN:VTIMEZONE
TZID:Europe/Amsterdam
X-LIC-LOCATION:Europe/Amsterdam
BEGIN:DAYLIGHT
DTSTART:20260329T030000
TZOFFSETFROM:+0100
TZOFFSETTO:+0200
TZNAME:CEST
END:DAYLIGHT
END:VTIMEZONE
END:VCALENDAR