BEGIN:VCALENDAR
VERSION:2.0
PRODID:-//wp-events-plugin.com//7.2.3.1//EN
TZID:Europe/Amsterdam
X-WR-TIMEZONE:Europe/Amsterdam
BEGIN:VEVENT
UID:237@schaken-rijen.nl
DTSTART;TZID=Europe/Amsterdam:20251118T195000
DTEND;TZID=Europe/Amsterdam:20251118T230000
DTSTAMP:20251022T093540Z
URL:https://www.schaken-rijen.nl/events/rapid-ronde-1/
SUMMARY:Rapid ronde 1-3
DESCRIPTION:
ATTACH;FMTTYPE=image/jpeg:https://www.schaken-rijen.nl/wp-content/uploads/
 2025/08/rapidcompetitie5.png
CATEGORIES:Overige competities
LOCATION:Pastorie\, Hoofdstraat 58\, Rijen\, Noord-Brabant\, 5121 JG\, Nede
 rland
X-APPLE-STRUCTURED-LOCATION;VALUE=URI;X-ADDRESS=Hoofdstraat 58\, Rijen\, No
 ord-Brabant\, 5121 JG\, Nederland;X-APPLE-RADIUS=100;X-TITLE=Pastorie:geo:
 0,0
END:VEVENT
BEGIN:VTIMEZONE
TZID:Europe/Amsterdam
X-LIC-LOCATION:Europe/Amsterdam
BEGIN:STANDARD
DTSTART:20251026T020000
TZOFFSETFROM:+0200
TZOFFSETTO:+0100
TZNAME:CET
END:STANDARD
END:VTIMEZONE
END:VCALENDAR